BEGIN:VCALENDAR
VERSION:2.0
PRODID:-//Snowperformance - ECPv6.15.20//NONSGML v1.0//EN
CALSCALE:GREGORIAN
METHOD:PUBLISH
X-ORIGINAL-URL:https://snowperformance.com
X-WR-CALDESC:Events for Snowperformance
REFRESH-INTERVAL;VALUE=DURATION:PT1H
X-Robots-Tag:noindex
X-PUBLISHED-TTL:PT1H
BEGIN:VTIMEZONE
TZID:America/Los_Angeles
BEGIN:DAYLIGHT
TZOFFSETFROM:-0800
TZOFFSETTO:-0700
TZNAME:PDT
DTSTART:20250309T100000
END:DAYLIGHT
BEGIN:STANDARD
TZOFFSETFROM:-0700
TZOFFSETTO:-0800
TZNAME:PST
DTSTART:20251102T090000
END:STANDARD
BEGIN:DAYLIGHT
TZOFFSETFROM:-0800
TZOFFSETTO:-0700
TZNAME:PDT
DTSTART:20260308T100000
END:DAYLIGHT
BEGIN:STANDARD
TZOFFSETFROM:-0700
TZOFFSETTO:-0800
TZNAME:PST
DTSTART:20261101T090000
END:STANDARD
BEGIN:DAYLIGHT
TZOFFSETFROM:-0800
TZOFFSETTO:-0700
TZNAME:PDT
DTSTART:20270314T100000
END:DAYLIGHT
BEGIN:STANDARD
TZOFFSETFROM:-0700
TZOFFSETTO:-0800
TZNAME:PST
DTSTART:20271107T090000
END:STANDARD
END:VTIMEZONE
BEGIN:VEVENT
DTSTART;TZID=America/Los_Angeles:20260313T000000
DTEND;TZID=America/Los_Angeles:20260313T235959
DTSTAMP:20260423T191738
CREATED:20250812T043001Z
LAST-MODIFIED:20260224T045117Z
UID:3572-1773360000-1773446399@snowperformance.com
SUMMARY:Sun Peaks All Mountain Spring Camp
DESCRIPTION:In this in winter of drought Sun Peaks has had great snow and skiing all season.  Our new first ever Sun Peaks spring all mountain camp should be a huge amount of fun skiing all the terrain available on the 3 mountains. \n\n\n\nIn Mid March you can get every condition from a foot of fresh powder to spring corn and full mountain coverage. It is open for skiers level 2 3 and 4 and we will train you techniques to move into new terrain more effectively\, efficiently\, smoother and faster than you have ever done. \n\n\n\nSun Peaks is an Ikon Pass resort. \n\n\n\nSun Peaks All Mountain Spring camp Arrive the night of March 13 Camp runs March 14 15 16. *Accommodation not included in this camp check the Cahilty\, Grand\, Sun Peaks Lodge\, Sun Dance lodge and Bear country lodging for options.  \n\n\n\n\n\n\n\n\n\nUse dropdown to see options for this  Sun Peaks session: \n\n\n\n \n\n\n\n\n\n\n\n\n\n\n\n\n*Lift tickets are not included unless stated in the info.\n\n\n\n\n\n\n\n\n\nEmail us if you do not find the option you are looking for.\n\n\n\n\n\n\n\n\n\nWe also offer Private Lessons at Sun Peaks.\n\n\n\nLearn more\n\n\n\n\n\n\n\n\n\n\n\n\n \n\n\n\n\n\n\nMore information about Ski Camps\n\n\n\n\n\nSee all Sun Peaks Camps Sessions\n\n\n\n\n\n\n\n\n\nThis is a skills\, all mountain camp open to all skiers in our levels 2-4 (Snowperformance scale). The camp will be a mix of developing skills and free skiing technical and tactical development\, dependent on the mountain conditions and your needs and wants.The Sun Peaks staff offer superb guest service and create a fantastic village atmosphere in the resort. \n\n\n\n\n\n\n\n\n\nTrip Includes  \n\n\n\n\n3 days coaching in highly personalized small groups.\n\n\n\n3 day lift ticket*\n\n\n\nDaily digital video analysis.\n\n\n\nOnline video and photos.\n\n\n\nWelcome reception.\n\n\n\n\n\n\n Not included \n\n\n\n\nTransportation to Sun Peaks.\n\n\n\nFood and drinks.\n\n\n\nAccommodation\n\n\n\n\n\n\n\n\n\n\n\n\nCourse Levels Have questions about what level you are? Visit our Course Levels description page to get a better idea. \n\n\n\nSun Peaks is an Ikon Pass resort. \n\n\n\nBalance due in full by January 10th. \n\n\n\n\n\nCamp PriceIncludes Coaching and lift ticket if purchased \n\n\n\nNo accommodation
URL:https://snowperformance.com/event/sun-peaks-all-mountain-spring-camp
ATTACH;FMTTYPE=image/png:https://snowperformance.com/wp-content/uploads/2025/05/Screenshot-220.png
END:VEVENT
END:VCALENDAR